BEGIN:VCALENDAR
VERSION:2.0
PRODID:-//Бібліотека ім. Лесі Українки - ECPv6.15.20//NONSGML v1.0//EN
CALSCALE:GREGORIAN
METHOD:PUBLISH
X-ORIGINAL-URL:https://lukl.kyiv.ua
X-WR-CALDESC:Події за Бібліотека ім. Лесі Українки
REFRESH-INTERVAL;VALUE=DURATION:PT1H
X-Robots-Tag:noindex
X-PUBLISHED-TTL:PT1H
BEGIN:VTIMEZONE
TZID:Europe/Kiev
BEGIN:DAYLIGHT
TZOFFSETFROM:+0200
TZOFFSETTO:+0300
TZNAME:EEST
DTSTART:20230326T010000
END:DAYLIGHT
BEGIN:STANDARD
TZOFFSETFROM:+0300
TZOFFSETTO:+0200
TZNAME:EET
DTSTART:20231029T010000
END:STANDARD
BEGIN:DAYLIGHT
TZOFFSETFROM:+0200
TZOFFSETTO:+0300
TZNAME:EEST
DTSTART:20240331T010000
END:DAYLIGHT
BEGIN:STANDARD
TZOFFSETFROM:+0300
TZOFFSETTO:+0200
TZNAME:EET
DTSTART:20241027T010000
END:STANDARD
BEGIN:DAYLIGHT
TZOFFSETFROM:+0200
TZOFFSETTO:+0300
TZNAME:EEST
DTSTART:20250330T010000
END:DAYLIGHT
BEGIN:STANDARD
TZOFFSETFROM:+0300
TZOFFSETTO:+0200
TZNAME:EET
DTSTART:20251026T010000
END:STANDARD
END:VTIMEZONE
BEGIN:VEVENT
DTSTART;TZID=Europe/Kiev:20240617T110000
DTEND;TZID=Europe/Kiev:20240617T120000
DTSTAMP:20260421T110505
CREATED:20240611T135838Z
LAST-MODIFIED:20240812T121259Z
UID:32914-1718622000-1718625600@lukl.kyiv.ua
SUMMARY:Показ фільмів Богдана Браги
DESCRIPTION:Щопонеділка об 11:00 у Публічній бібліотеці імені Лесі Українки відбуватимуться онлайн-покази фільмів Богдана Браги. \nБогдан Брага знімає фільми на тему української історії і культури\, цікавиться сучасними процесами в Україні\, полюбляє туризм. Поміж його фільмів є такі\, як “Стріла заздрощів. Агапіт”\, “Князь-ченець Микола Святоша”\, “Хрест Марка Гробокопателя”\, “Що може художник. Валерій Франчук”\, “Канівський хорал. Міненко”\, “Художник і час. І.В. Задорожний”\, “В.І. Забашта” тощо. \nРежисер фільму – Богдан Брага\, модератор – Анатолій Горовий — письменник\, художник\, ректор колишнього Києво-Печерського гуманітарного колегіуму\, у якому навчався Богдан Брага. \nЗапрошуємо всіх охочих доєднатися до етеру на сторінці бібліотеки в мережі Facebook.
URL:https://lukl.kyiv.ua/event/pokaz-filmiv-bohdana-brahy-7/
CATEGORIES:Онлайн-розповідь
ATTACH;FMTTYPE=image/jpeg:https://lukl.kyiv.ua/wp-content/uploads/2024/06/Богдан_Брага.jpg
END:VEVENT
END:VCALENDAR