BEGIN:VCALENDAR
VERSION:2.0
PRODID:-//Бібліотека ім. Лесі Українки - ECPv6.15.20//NONSGML v1.0//EN
CALSCALE:GREGORIAN
METHOD:PUBLISH
X-WR-CALNAME:Бібліотека ім. Лесі Українки
X-ORIGINAL-URL:https://lukl.kyiv.ua
X-WR-CALDESC:Події за Бібліотека ім. Лесі Українки
REFRESH-INTERVAL;VALUE=DURATION:PT1H
X-Robots-Tag:noindex
X-PUBLISHED-TTL:PT1H
BEGIN:VTIMEZONE
TZID:Europe/Kiev
BEGIN:DAYLIGHT
TZOFFSETFROM:+0200
TZOFFSETTO:+0300
TZNAME:EEST
DTSTART:20230326T010000
END:DAYLIGHT
BEGIN:STANDARD
TZOFFSETFROM:+0300
TZOFFSETTO:+0200
TZNAME:EET
DTSTART:20231029T010000
END:STANDARD
BEGIN:DAYLIGHT
TZOFFSETFROM:+0200
TZOFFSETTO:+0300
TZNAME:EEST
DTSTART:20240331T010000
END:DAYLIGHT
BEGIN:STANDARD
TZOFFSETFROM:+0300
TZOFFSETTO:+0200
TZNAME:EET
DTSTART:20241027T010000
END:STANDARD
BEGIN:DAYLIGHT
TZOFFSETFROM:+0200
TZOFFSETTO:+0300
TZNAME:EEST
DTSTART:20250330T010000
END:DAYLIGHT
BEGIN:STANDARD
TZOFFSETFROM:+0300
TZOFFSETTO:+0200
TZNAME:EET
DTSTART:20251026T010000
END:STANDARD
END:VTIMEZONE
BEGIN:VEVENT
DTSTART;TZID=Europe/Kiev:20240614T173000
DTEND;TZID=Europe/Kiev:20240614T183000
DTSTAMP:20260420T031634
CREATED:20240611T080600Z
LAST-MODIFIED:20240611T080600Z
UID:32894-1718386200-1718389800@lukl.kyiv.ua
SUMMARY:Літературно-музичний вечір «Музика лунає – Україну єднає»
DESCRIPTION:14 червня о 17:30 у Публічній бібліотеці імені Лесі Українки відбудеться літературно-музичний вечір «Музика лунає – Україну єднає».\nЗберуться митці з різних куточків України\, аби музикою і словом підтримати волю до життя і боротьби. Ця зустріч – мистецький екскурс від класики 19 сторіччя до модерної лірики та неофольклорних імпровізацій.\nУчасники вечора:\nСолістка Одеського національного академічного театру опери та балету Аліна Ворох.\nПіаністка Аліса-Марія Ворох (Одеса)\nДует «Осяйна&Живосил» (Київ)\nПоетеса Оленка Сонце (Вінниця)\nПоет\, перекладач Дмитро Луняка\nУ час воєнного шторму мистецтво стає рятівним кругом\, а ще – канатом\, який об’єднує\, тримає разом човни наших сердець.\nЗахід відбудеться за адресою вул. Олександра Кониського 83-85. Чекаємо всіх охочих! \n 
URL:https://lukl.kyiv.ua/event/literaturno-muzichnij-vechir-muzika-lunaye-ukrayinu-yednaye/
LOCATION:вул. Олександра Кониського\, 83-85\, Київ\, вул. Олександра Кониського\, 83-85\,Київ
CATEGORIES:Творчі зустрічі
ATTACH;FMTTYPE=image/jpeg:https://lukl.kyiv.ua/wp-content/uploads/2024/06/Literaturno-muzichnij-vechir-Muzika-lunaye-–-Ukrayinu-yednaye.jpg
END:VEVENT
END:VCALENDAR