BEGIN:VCALENDAR
VERSION:2.0
PRODID:-//Бібліотека ім. Лесі Українки - ECPv6.15.20//NONSGML v1.0//EN
CALSCALE:GREGORIAN
METHOD:PUBLISH
X-ORIGINAL-URL:https://lukl.kyiv.ua
X-WR-CALDESC:Події за Бібліотека ім. Лесі Українки
REFRESH-INTERVAL;VALUE=DURATION:PT1H
X-Robots-Tag:noindex
X-PUBLISHED-TTL:PT1H
BEGIN:VTIMEZONE
TZID:Europe/Kiev
BEGIN:DAYLIGHT
TZOFFSETFROM:+0200
TZOFFSETTO:+0300
TZNAME:EEST
DTSTART:20230326T010000
END:DAYLIGHT
BEGIN:STANDARD
TZOFFSETFROM:+0300
TZOFFSETTO:+0200
TZNAME:EET
DTSTART:20231029T010000
END:STANDARD
BEGIN:DAYLIGHT
TZOFFSETFROM:+0200
TZOFFSETTO:+0300
TZNAME:EEST
DTSTART:20240331T010000
END:DAYLIGHT
BEGIN:STANDARD
TZOFFSETFROM:+0300
TZOFFSETTO:+0200
TZNAME:EET
DTSTART:20241027T010000
END:STANDARD
BEGIN:DAYLIGHT
TZOFFSETFROM:+0200
TZOFFSETTO:+0300
TZNAME:EEST
DTSTART:20250330T010000
END:DAYLIGHT
BEGIN:STANDARD
TZOFFSETFROM:+0300
TZOFFSETTO:+0200
TZNAME:EET
DTSTART:20251026T010000
END:STANDARD
END:VTIMEZONE
BEGIN:VEVENT
DTSTART;TZID=Europe/Kiev:20240613T150000
DTEND;TZID=Europe/Kiev:20240613T160000
DTSTAMP:20260420T012130
CREATED:20240611T133250Z
LAST-MODIFIED:20240611T140220Z
UID:32911-1718290800-1718294400@lukl.kyiv.ua
SUMMARY:Дереворит Ярослава Гладкого
DESCRIPTION:13 червня у о 15.00 у відділі краєзнавчої літератури та бібліографії відбудеться презентація дереворитів Ярослава Гладкого\, майстра різьблення по дереву. Присутніми будуть мистецтвознавець\, дослідник екслібрису Петро Нестеренко і акторка\, поетеса Юлія Сак.\nДереворит — цікава техніка\, тож запрошуємо подивитися на твори пана Ярослава у відділі краєзнавчої літератури.
URL:https://lukl.kyiv.ua/event/derevoryt-yaroslava-hladkoho/
LOCATION:Відділ краєзнавчої літератури та бібліографії\, вул. В. Винниченка\, 16
CATEGORIES:Творчі зустрічі
ATTACH;FMTTYPE=image/jpeg:https://lukl.kyiv.ua/wp-content/uploads/2024/06/Гладкий.jpg
END:VEVENT
BEGIN:VEVENT
DTSTART;TZID=Europe/Kiev:20240614T173000
DTEND;TZID=Europe/Kiev:20240614T183000
DTSTAMP:20260420T012130
CREATED:20240611T080600Z
LAST-MODIFIED:20240611T080600Z
UID:32894-1718386200-1718389800@lukl.kyiv.ua
SUMMARY:Літературно-музичний вечір «Музика лунає – Україну єднає»
DESCRIPTION:14 червня о 17:30 у Публічній бібліотеці імені Лесі Українки відбудеться літературно-музичний вечір «Музика лунає – Україну єднає».\nЗберуться митці з різних куточків України\, аби музикою і словом підтримати волю до життя і боротьби. Ця зустріч – мистецький екскурс від класики 19 сторіччя до модерної лірики та неофольклорних імпровізацій.\nУчасники вечора:\nСолістка Одеського національного академічного театру опери та балету Аліна Ворох.\nПіаністка Аліса-Марія Ворох (Одеса)\nДует «Осяйна&Живосил» (Київ)\nПоетеса Оленка Сонце (Вінниця)\nПоет\, перекладач Дмитро Луняка\nУ час воєнного шторму мистецтво стає рятівним кругом\, а ще – канатом\, який об’єднує\, тримає разом човни наших сердець.\nЗахід відбудеться за адресою вул. Олександра Кониського 83-85. Чекаємо всіх охочих! \n 
URL:https://lukl.kyiv.ua/event/literaturno-muzichnij-vechir-muzika-lunaye-ukrayinu-yednaye/
LOCATION:вул. Олександра Кониського\, 83-85\, Київ\, вул. Олександра Кониського\, 83-85\,Київ
CATEGORIES:Творчі зустрічі
ATTACH;FMTTYPE=image/jpeg:https://lukl.kyiv.ua/wp-content/uploads/2024/06/Literaturno-muzichnij-vechir-Muzika-lunaye-–-Ukrayinu-yednaye.jpg
END:VEVENT
BEGIN:VEVENT
DTSTART;TZID=Europe/Kiev:20240615T150000
DTEND;TZID=Europe/Kiev:20240615T160000
DTSTAMP:20260420T012130
CREATED:20240611T131705Z
LAST-MODIFIED:20240611T140130Z
UID:32907-1718463600-1718467200@lukl.kyiv.ua
SUMMARY:Презентація збірки оповідань Ксенії Мейти «Таргани»
DESCRIPTION:5 червня о 15:00 у відділі краєзнавчої літератури і бібліографії Публічної бібліотеки імені Лесі Українки відбудеться презентація книги Ксенії Мейти. Про що книга? Таємничий світ самоусвідомлення\, поруч із намаганням знайти відповіді на актуальні виклики сьогодення. Потік свідомості\, котрий тягне за собою постійну ніцшеанську переоцінку цінностей. Особисте знайомство з тарганами несвідомого.\nКсенія Мейта (1993 р.н.) — письменниця\, філософиня\, філологиня. Випускниця бакалаврської програми з філології (2016) та магістерської програми з філософії (2018) Національного університету «Києво-Могилянська академія». Отримала ступінь PhD з філософії. Лауреатка літературного конкурсу видавництва «Смолоскип» у номінації «Проза» (2019).\nЩоб відвідати захід\, потрібно зареєструватися за посиланням — bit.ly/spraga-info\nМодераторка презентації — Інна Довганюк. Спільно зі «Спрага»: в Києві цікаво.
URL:https://lukl.kyiv.ua/event/prezentatsiia-zbirky-opovidan-ksenii/
LOCATION:Відділ краєзнавчої літератури та бібліографії\, вул. В. Винниченка\, 16
CATEGORIES:Творчі зустрічі
ATTACH;FMTTYPE=image/jpeg:https://lukl.kyiv.ua/wp-content/uploads/2024/06/Ксенія_Мейт.jpg
END:VEVENT
END:VCALENDAR