BEGIN:VCALENDAR
VERSION:2.0
PRODID:-//Бібліотека ім. Лесі Українки - ECPv6.15.20//NONSGML v1.0//EN
CALSCALE:GREGORIAN
METHOD:PUBLISH
X-ORIGINAL-URL:https://lukl.kyiv.ua
X-WR-CALDESC:Події за Бібліотека ім. Лесі Українки
REFRESH-INTERVAL;VALUE=DURATION:PT1H
X-Robots-Tag:noindex
X-PUBLISHED-TTL:PT1H
BEGIN:VTIMEZONE
TZID:Europe/Kiev
BEGIN:DAYLIGHT
TZOFFSETFROM:+0200
TZOFFSETTO:+0300
TZNAME:EEST
DTSTART:20230326T010000
END:DAYLIGHT
BEGIN:STANDARD
TZOFFSETFROM:+0300
TZOFFSETTO:+0200
TZNAME:EET
DTSTART:20231029T010000
END:STANDARD
BEGIN:DAYLIGHT
TZOFFSETFROM:+0200
TZOFFSETTO:+0300
TZNAME:EEST
DTSTART:20240331T010000
END:DAYLIGHT
BEGIN:STANDARD
TZOFFSETFROM:+0300
TZOFFSETTO:+0200
TZNAME:EET
DTSTART:20241027T010000
END:STANDARD
BEGIN:DAYLIGHT
TZOFFSETFROM:+0200
TZOFFSETTO:+0300
TZNAME:EEST
DTSTART:20250330T010000
END:DAYLIGHT
BEGIN:STANDARD
TZOFFSETFROM:+0300
TZOFFSETTO:+0200
TZNAME:EET
DTSTART:20251026T010000
END:STANDARD
END:VTIMEZONE
BEGIN:VEVENT
DTSTART;TZID=Europe/Kiev:20241007T150000
DTEND;TZID=Europe/Kiev:20241007T160000
DTSTAMP:20260419T182220
CREATED:20241003T120826Z
LAST-MODIFIED:20241003T120826Z
UID:34621-1728313200-1728316800@lukl.kyiv.ua
SUMMARY:«Срібна нитка бабиного літа» у поезії Станіслава Шевченка
DESCRIPTION:7 жовтня о 15:00 у Публічній бібліотеці імені Лесі Українки відбудеться творчий вечір «Срібна нитка бабиного літа» у поезії Станіслава Шевченка\, українського поета\, журналіста\, перекладача\, голови творчого об’єднання поетів Київської організації НСПУ\, автора та ведучого передач Національної радіокомпанії України. \nМодераторка заходу – Алла Диба\, літературознавиця\, поетеса\, публіцистка\, заступниця голови об’єднання поетів Київської організації НСПУ. \nЗа активну творчу працю пан Станіслав удостоєний багатьох почесних відзнак\, він лауреат літературних премій – Державної ім.І.Нечуя-Левицького\, ім.М.Рильського\, перший лауреат Ічнянської літературної премії ім.В.Чумака\, Всепольської ім.Францишка Карпінського\, премії ім.Вітольда Гулевича\, ХХУІ Варшавської осені поезії\, ХІХ міжнародного поетичного листопаду (Познань)\, Світового Дня поезій\, заслужений діяч мистецтв України. \nЗа сценаріями Станіслава Шевченка було створено цілу низку талановитих кінострічок (серед них з циклу “Невідома Україна”). Окремі фільми відзначені медалями лауреата та дипломами\, призами на всесоюзних кінофестивалях. Творчість Станіслава Шевченка на рідкість багатогранна\, він також чудовий перекладач творів польських поетів і упорядник двох антологій сучасної польської поезії. \nЗапрошуємо всіх охочих відвідати захід за адресою вул. Олександра Кониського 83-85. Вхід вільний. \n 
URL:https://lukl.kyiv.ua/event/sribna-nitka-babinogo-lita-u-poeziyi-stanislava-shevchenka/
LOCATION:вул. Олександра Кониського\, 83-85\, Київ\, вул. Олександра Кониського\, 83-85\,Київ
CATEGORIES:Творчі зустрічі
ATTACH;FMTTYPE=image/jpeg:https://lukl.kyiv.ua/wp-content/uploads/2024/10/Sribna-nitka-babinogo-lita-u-poeziyi-Stanislava-Shevchenka.jpg
END:VEVENT
BEGIN:VEVENT
DTSTART;TZID=Europe/Kiev:20241008T140000
DTEND;TZID=Europe/Kiev:20241008T160000
DTSTAMP:20260419T182220
CREATED:20241007T093747Z
LAST-MODIFIED:20241007T105336Z
UID:34642-1728396000-1728403200@lukl.kyiv.ua
SUMMARY:Літературний вечір памʼяті Михайла Драй-Хмари "Я говорю вустами мільйонів"
DESCRIPTION:8 жовтня о 14:00 у Публічній бібліотеці імені Лесі Українки відбудеться літературний вечір «Я говорю вустами мільйонів…М.П. Драй-Хмарa»\, приурочений до 135-річчя від дня народження українського поета та вченого. Постать Михайла Драй-Хмари на українському культурному обширі – унікальна. Він належав до особистостей надзвичайно\, феєрично обдарованих у будь-якій своїй іпостасі. А водночас – до тих\, кого радянська влада небезпідставно вважала своїми ворогами і винищувала як очевидну загрозу для свого існування. Тож за радянських часів ім’я Драй-Хмари та його творчість замовчувались. На жаль\, і за часів незалежності на офіційному рівні про нього майже не згадують.Пам’ять про видатного поета відроджує і плекає науковець\, політик і громадський діяч\, засновник Фонду «Рідна країна» Микола Томенко – односелець М.Драй-Хмари (обоє походять з села Малі Канівці колись Золотоніського повіту\, а нині – Чорнобаївського району Черкаської області).Про творчість Лесі Українки в науковій інтерпретації М. Драй-Хмари розповість Вусатюк (Котенко) Наталія Володимирівна\, молодший науковий співробітник відділу рукописних фондів і текстології Інституту літератури ім. Т.Г. Шевченка.До виступу запрошений Гальченко Сергій – український літературознавець\, кандидат філологічних наук\, архівіст\, завідувач відділу рукописних фондів і текстології Інституту літератури ім. Т.Г. Шевченка.Запрошуємо всіх охочих відвідати захід за адресою вул. Олександра Кониського 83-85. Вхід вільний.
URL:https://lukl.kyiv.ua/event/literaturnyi-vechir-pam%ca%bciati-mykhaila-drai-khmary-ya-hovoriu-vustamy-milioniv/
LOCATION:вул. Олександра Кониського\, 83-85\, Київ\, вул. Олександра Кониського\, 83-85\,Київ
CATEGORIES:Творчі зустрічі
ATTACH;FMTTYPE=image/jpeg:https://lukl.kyiv.ua/wp-content/uploads/2024/10/Drayhmara.jpg
END:VEVENT
BEGIN:VEVENT
DTSTART;TZID=Europe/Kiev:20241009T150000
DTEND;TZID=Europe/Kiev:20241009T160000
DTSTAMP:20260419T182220
CREATED:20241003T115744Z
LAST-MODIFIED:20241003T115744Z
UID:34615-1728486000-1728489600@lukl.kyiv.ua
SUMMARY:Творчий вечір Сергія Мартинюка
DESCRIPTION:Запрошуємо відвідати творчий вечір Сергія Мартинюка\, українського прозаїка\, публіциста\, поета\, журналіста\, краєзнавця\, громадського і політичного діяча\, мецената\, військовослужбовця Ірпінської ТрО. \nПід час заходу автор презентуватиме нові книги:\n“13 віршів\, або Битва за Ірпінь змінила світ”. Збірка відкриває новий етап військової творчості письменника. 24 лютого Сергій Мартинюк сказав «…від сьогодні я солдат. Моя Україна потребує солдата Мартинюка». Взяв до рук мисливську зброю і приєднався до Ірпінського руху спротиву москвинським окупантам. 13 віршів\, які увійшли в збірку\, писались в окопах\, на позиціях\, під обстрілами. Один рядок писався в Ірпінському Будинку письменників\, другий — на «Жирафі»\, третій — на «Каравангала»\, четвертий — на Водоканалі. Саме тому вони бойові й пахнуть потом\, порохом і славою. \n“Українці – люди Сонця Неба”\, яку Сергій Мартинюк написав у співавторстві із Василем Якименком. Автори доводять\, що Україна була\, є і буде\, незважаючи на війну… Настав той час\, коли більше ніхто і ніколи в світі не переплутає Україну з московією! Роки Незалежності нашої країни покликали до неординарних підходів у висвітленні літопису\, походження українців\, правдивого його вивчення та впливу інших цивілізацій на сучасну українську націю… Піднімаємо з глибин історії шумерські та етруські тексти\, вони не чиїсь\, а наші\, наших славних пращурів Українців \nЗахід відбудеться в медіа залі бібліотеки 9 жовтня о 15:00 \n 
URL:https://lukl.kyiv.ua/event/tvorchij-vechir-sergiya-martinyuka/
LOCATION:Зала медіаресурсів\, вул. Олександра Кониського\, 83-85\, Київ\, Ukraine
CATEGORIES:Творчі зустрічі
ATTACH;FMTTYPE=image/jpeg:https://lukl.kyiv.ua/wp-content/uploads/2024/10/tvorchij-vechir-Sergiya-Martinyuka.jpg
END:VEVENT
END:VCALENDAR